BEGIN:VCALENDAR
VERSION:2.0
PRODID:-//Lindenbornschule - ECPv6.15.20//NONSGML v1.0//EN
CALSCALE:GREGORIAN
METHOD:PUBLISH
X-WR-CALNAME:Lindenbornschule
X-ORIGINAL-URL:https://www.ggs-lindenbornstrasse.de
X-WR-CALDESC:Veranstaltungen für Lindenbornschule
REFRESH-INTERVAL;VALUE=DURATION:PT1H
X-Robots-Tag:noindex
X-PUBLISHED-TTL:PT1H
BEGIN:VTIMEZONE
TZID:Europe/Berlin
BEGIN:DAYLIGHT
TZOFFSETFROM:+0100
TZOFFSETTO:+0200
TZNAME:CEST
DTSTART:20240331T010000
END:DAYLIGHT
BEGIN:STANDARD
TZOFFSETFROM:+0200
TZOFFSETTO:+0100
TZNAME:CET
DTSTART:20241027T010000
END:STANDARD
BEGIN:DAYLIGHT
TZOFFSETFROM:+0100
TZOFFSETTO:+0200
TZNAME:CEST
DTSTART:20250330T010000
END:DAYLIGHT
BEGIN:STANDARD
TZOFFSETFROM:+0200
TZOFFSETTO:+0100
TZNAME:CET
DTSTART:20251026T010000
END:STANDARD
BEGIN:DAYLIGHT
TZOFFSETFROM:+0100
TZOFFSETTO:+0200
TZNAME:CEST
DTSTART:20260329T010000
END:DAYLIGHT
BEGIN:STANDARD
TZOFFSETFROM:+0200
TZOFFSETTO:+0100
TZNAME:CET
DTSTART:20261025T010000
END:STANDARD
END:VTIMEZONE
BEGIN:VEVENT
DTSTART;TZID=Europe/Berlin:20250227T083000
DTEND;TZID=Europe/Berlin:20250227T094500
DTSTAMP:20260423T132104
CREATED:20240828T072946Z
LAST-MODIFIED:20240828T072946Z
UID:964-1740645000-1740649500@www.ggs-lindenbornstrasse.de
SUMMARY:Weiberfastnacht
DESCRIPTION:Feier in der Turnhalle \nUnterrichtsschluss um 11 Uhr \nOGS-Notbetreuung bis 14 Uhr
URL:https://www.ggs-lindenbornstrasse.de/termine/weiberfastnacht-3/
END:VEVENT
END:VCALENDAR